BEGIN:VCALENDAR
VERSION:2.0
PRODID:-//ChamberMaster//Event Calendar 2.0//EN
METHOD:PUBLISH
X-PUBLISHED-TTL:P3D
REFRESH-INTERVAL:P3D
CALSCALE:GREGORIAN
BEGIN:VEVENT
DTSTART:20171029T000000Z
DTEND:20171029T020000Z
X-MICROSOFT-CDO-ALLDAYEVENT:FALSE
SUMMARY:Open Skate
DESCRIPTION:Open Skate Admission $3.00 Skate rental $2.00 Skate sharpening $3.00
X-ALT-DESC;FMTTYPE=text/html:Open Skate Admission $3.00 Skate rental $2.00 Skate sharpening $3.00
LOCATION:Smith Center
UID:e.2717.1505
SEQUENCE:3
DTSTAMP:20260424T072050Z
URL:http://merrillchamberwi.chambermaster.com/events/details/open-skate-1505
END:VEVENT

END:VCALENDAR
